BEGIN:VCALENDAR
VERSION:2.0
PRODID:-//Peter-Anthony Togni - ECPv5.8.1//NONSGML v1.0//EN
CALSCALE:GREGORIAN
METHOD:PUBLISH
X-WR-CALNAME:Peter-Anthony Togni
X-ORIGINAL-URL:https://www.petertogni.com
X-WR-CALDESC:Events for Peter-Anthony Togni
BEGIN:VTIMEZONE
TZID:America/Edmonton
BEGIN:DAYLIGHT
TZOFFSETFROM:-0700
TZOFFSETTO:-0600
TZNAME:MDT
DTSTART:20160313T090000
END:DAYLIGHT
BEGIN:STANDARD
TZOFFSETFROM:-0600
TZOFFSETTO:-0700
TZNAME:MST
DTSTART:20161106T080000
END:STANDARD
END:VTIMEZONE
BEGIN:VEVENT
DTSTART;TZID=America/Edmonton:20160507T200000
DTEND;TZID=America/Edmonton:20160507T220000
DTSTAMP:20260419T155828
CREATED:20160221T031834Z
LAST-MODIFIED:20160225T011152Z
UID:1912-1462651200-1462658400@www.petertogni.com
SUMMARY:Responsio - Luminous Voices
DESCRIPTION:Saturday\, May 7\, 2016\, 8:00pm\nSt. Stephen’s Anglican Church\, Calgary\nLuminous Voices Presents\nTogni – Responsio\nSpecial Guest Jeff Reilly\, bass clarinet\nPresented in partnership with the Calgary New Music Festival \nPerformed by Katie Partridge\, soprano; Patricia Thompson\, mezzo-soprano; Timothy Shantz\, tenor; Oliver Munar\, tenor; and Jeff Reilly bass clarinet.
URL:https://www.petertogni.com/event/responsio-luminous-voices/
LOCATION:St. Stephen’s Anglican Church\, 1121 14 Ave SW\, Calgary\, Alberta\, T2R 0P3\, Canada
CATEGORIES:Concert
ATTACH;FMTTYPE=image/jpeg:https://www.petertogni.com/wp-content/uploads/2016/02/LV-promo-02.jpg
END:VEVENT
END:VCALENDAR