BEGIN:VCALENDAR
VERSION:2.0
PRODID:-//Peter-Anthony Togni - ECPv5.8.1//NONSGML v1.0//EN
CALSCALE:GREGORIAN
METHOD:PUBLISH
X-WR-CALNAME:Peter-Anthony Togni
X-ORIGINAL-URL:http://www.petertogni.com
X-WR-CALDESC:Events for Peter-Anthony Togni
BEGIN:VTIMEZONE
TZID:America/Halifax
BEGIN:DAYLIGHT
TZOFFSETFROM:-0400
TZOFFSETTO:-0300
TZNAME:ADT
DTSTART:20160313T060000
END:DAYLIGHT
BEGIN:STANDARD
TZOFFSETFROM:-0300
TZOFFSETTO:-0400
TZNAME:AST
DTSTART:20161106T050000
END:STANDARD
TZID:America/Halifax
BEGIN:DAYLIGHT
TZOFFSETFROM:-0400
TZOFFSETTO:-0300
TZNAME:ADT
DTSTART:20150308T060000
END:DAYLIGHT
BEGIN:STANDARD
TZOFFSETFROM:-0300
TZOFFSETTO:-0400
TZNAME:AST
DTSTART:20151101T050000
END:STANDARD
END:VTIMEZONE
BEGIN:VEVENT
DTSTART;TZID=America/Halifax:20160305T110000
DTEND;TZID=America/Halifax:20160305T120000
DTSTAMP:20260419T195109
CREATED:20160223T193923Z
LAST-MODIFIED:20160225T012135Z
UID:1940-1457175600-1457179200@www.petertogni.com
SUMMARY:Blackwood - Musique Royale
DESCRIPTION:Musique Royale features Blackwood\, the imaginative duo of Peter-Anthony Togni and Jeff Reilly at Cecilia’s Retreat in beautiful Mahone Bay on Saturday\, March 5.   \nBrunch to Follow \nReservations can be made for the Cecilia Retreat event by emailing barbara.butler@ns.sympatico.ca. Admission is $25. Cecilia’s Retreat overlooks the beautiful waters of Mahone Bay. Seating is limited and a full brunch is included.
URL:http://www.petertogni.com/event/blackwood-musique-royale/
LOCATION:Cecilia’s Retreat\, 1199 Oakland  Road\, RR#2\, Malone Bay\, Nova Scotia\, B0J 2E0\, Canada
CATEGORIES:Concert
ATTACH;FMTTYPE=image/jpeg:http://www.petertogni.com/wp-content/uploads/2016/02/Togni-Reilly-Blackwood.jpg
ORGANIZER;CN="Barbara%20Butler":MAILTO:barbara.butler@ns.sympatico.ca
END:VEVENT
BEGIN:VEVENT
DTSTART;TZID=America/Halifax:20151204T193000
DTEND;TZID=America/Halifax:20151204T210000
DTSTAMP:20260419T195109
CREATED:20151118T213813Z
LAST-MODIFIED:20151118T215156Z
UID:1871-1449257400-1449262800@www.petertogni.com
SUMMARY:Acadia School of Music - New Works
DESCRIPTION:The Acadia School of Music presents a Recital of New Works by composition students of Peter-Anthony Togni. \nDecember 4th 2015 at Denton Hall\, Acadia University @ 7:30 pm
URL:http://www.petertogni.com/event/acadia-school-of-music-new-works/
LOCATION:Denton Hall\, Acadia University\, Wolfville\, Nova Scotia\, B4P2R6\, Canada
CATEGORIES:Acadia,Concert
ATTACH;FMTTYPE=image/png:http://www.petertogni.com/wp-content/uploads/2015/11/Acadia_Comp_Rec_2015.png
END:VEVENT
END:VCALENDAR