BEGIN:VCALENDAR
VERSION:2.0
PRODID:-//Peter-Anthony Togni - ECPv5.8.1//NONSGML v1.0//EN
CALSCALE:GREGORIAN
METHOD:PUBLISH
X-WR-CALNAME:Peter-Anthony Togni
X-ORIGINAL-URL:http://www.petertogni.com
X-WR-CALDESC:Events for Peter-Anthony Togni
BEGIN:VTIMEZONE
TZID:America/Halifax
BEGIN:DAYLIGHT
TZOFFSETFROM:-0400
TZOFFSETTO:-0300
TZNAME:ADT
DTSTART:20240310T060000
END:DAYLIGHT
BEGIN:STANDARD
TZOFFSETFROM:-0300
TZOFFSETTO:-0400
TZNAME:AST
DTSTART:20241103T050000
END:STANDARD
END:VTIMEZONE
BEGIN:VEVENT
DTSTART;TZID=America/Halifax:20241106T120000
DTEND;TZID=America/Halifax:20241106T130000
DTSTAMP:20260417T125425
CREATED:20241029T030743Z
LAST-MODIFIED:20241029T030743Z
UID:2480-1730894400-1730898000@www.petertogni.com
SUMMARY:Lost and Found - Blackwood
DESCRIPTION:Join Peter-Anthony Togni on piano and Jeff Reilly on bass clarinet for an hour of atmospheric music that is a mix of new and old\, composed and improvised on a unique foundation of jazz\, Gregorian chat and Minimalism.
URL:http://www.petertogni.com/event/lost-and-found-blackwood/
LOCATION:Conrad Grebel University – Chapel\, 140 Westmount Rad North\, Waterloo\, Ontario\, N2L 3G6\, Canada
CATEGORIES:Concert
END:VEVENT
END:VCALENDAR